BEGIN:VCALENDAR
VERSION:2.0
PRODID:-//Commune de Guillaucourt - ECPv6.15.20//NONSGML v1.0//EN
CALSCALE:GREGORIAN
METHOD:PUBLISH
X-WR-CALNAME:Commune de Guillaucourt
X-ORIGINAL-URL:https://www.guillaucourt.fr
X-WR-CALDESC:Évènements pour Commune de Guillaucourt
REFRESH-INTERVAL;VALUE=DURATION:PT1H
X-Robots-Tag:noindex
X-PUBLISHED-TTL:PT1H
BEGIN:VTIMEZONE
TZID:Europe/Paris
BEGIN:DAYLIGHT
TZOFFSETFROM:+0100
TZOFFSETTO:+0200
TZNAME:CEST
DTSTART:20240331T010000
END:DAYLIGHT
BEGIN:STANDARD
TZOFFSETFROM:+0200
TZOFFSETTO:+0100
TZNAME:CET
DTSTART:20241027T010000
END:STANDARD
BEGIN:DAYLIGHT
TZOFFSETFROM:+0100
TZOFFSETTO:+0200
TZNAME:CEST
DTSTART:20250330T010000
END:DAYLIGHT
BEGIN:STANDARD
TZOFFSETFROM:+0200
TZOFFSETTO:+0100
TZNAME:CET
DTSTART:20251026T010000
END:STANDARD
BEGIN:DAYLIGHT
TZOFFSETFROM:+0100
TZOFFSETTO:+0200
TZNAME:CEST
DTSTART:20260329T010000
END:DAYLIGHT
BEGIN:STANDARD
TZOFFSETFROM:+0200
TZOFFSETTO:+0100
TZNAME:CET
DTSTART:20261025T010000
END:STANDARD
END:VTIMEZONE
BEGIN:VEVENT
DTSTART;TZID=Europe/Paris:20251118T203000
DTEND;TZID=Europe/Paris:20251118T223000
DTSTAMP:20260422T024025
CREATED:20250206T134955Z
LAST-MODIFIED:20251009T122602Z
UID:2219-1763497800-1763505000@www.guillaucourt.fr
SUMMARY:Séance cinéma "Classe moyenne"
DESCRIPTION:Film : « Classe moyenne » d’Antony Cordier \n \nSynopsis : Mehdi a prévu de passer un été tranquille dans la somptueuse demeure de ses beaux-parents. Mais dès son arrivée\, un conflit éclate entre la famille de sa fiancée et le couple de gardiens de la villa. Comme Mehdi est issu d’un milieu modeste\, il pense pouvoir mener les négociations entre les deux parties et ramener tout le monde à la raison. Pourtant\, tout s’envenime… \nBande annonce
URL:https://www.guillaucourt.fr/event/seance-cinema-5/
END:VEVENT
END:VCALENDAR