BEGIN:VCALENDAR
VERSION:2.0
PRODID:-//Commune de Guillaucourt - ECPv6.15.20//NONSGML v1.0//EN
CALSCALE:GREGORIAN
METHOD:PUBLISH
X-WR-CALNAME:Commune de Guillaucourt
X-ORIGINAL-URL:https://www.guillaucourt.fr
X-WR-CALDESC:Évènements pour Commune de Guillaucourt
REFRESH-INTERVAL;VALUE=DURATION:PT1H
X-Robots-Tag:noindex
X-PUBLISHED-TTL:PT1H
BEGIN:VTIMEZONE
TZID:Europe/Paris
BEGIN:DAYLIGHT
TZOFFSETFROM:+0100
TZOFFSETTO:+0200
TZNAME:CEST
DTSTART:20250330T010000
END:DAYLIGHT
BEGIN:STANDARD
TZOFFSETFROM:+0200
TZOFFSETTO:+0100
TZNAME:CET
DTSTART:20251026T010000
END:STANDARD
BEGIN:DAYLIGHT
TZOFFSETFROM:+0100
TZOFFSETTO:+0200
TZNAME:CEST
DTSTART:20260329T010000
END:DAYLIGHT
BEGIN:STANDARD
TZOFFSETFROM:+0200
TZOFFSETTO:+0100
TZNAME:CET
DTSTART:20261025T010000
END:STANDARD
BEGIN:DAYLIGHT
TZOFFSETFROM:+0100
TZOFFSETTO:+0200
TZNAME:CEST
DTSTART:20270328T010000
END:DAYLIGHT
BEGIN:STANDARD
TZOFFSETFROM:+0200
TZOFFSETTO:+0100
TZNAME:CET
DTSTART:20271031T010000
END:STANDARD
END:VTIMEZONE
BEGIN:VEVENT
DTSTART;TZID=Europe/Paris:20260527T203000
DTEND;TZID=Europe/Paris:20260527T223000
DTSTAMP:20260421T135801
CREATED:20260404T085617Z
LAST-MODIFIED:20260421T070524Z
UID:9778-1779913800-1779921000@www.guillaucourt.fr
SUMMARY:Séance cinéma "Ceux qui comptent"
DESCRIPTION:Synopsis : Rose et Jean n’ont rien en commun. Rose est une force de la nature qui affronte tous ses problèmes avec une désarmante joie de vivre. Elle campe avec ses 3 enfants à l’étage de l’hôtel de famille qui ne leur appartient plus\, et non\, ils ne sont pas pauvres\, ils sont fauchés. C’est temporaire. Jean est un homme solitaire et taciturne qui a fini par enfouir son grand cœur sous des couches de pudeur et de résignation. Quand il arrive malgré lui dans cette famille hors norme\, il va très vite devenir indispensable. Qu’attendaient-ils avant de se rencontrer ? Sans doute plus rien. Et pourtant\, ensemble\, tout va devenir possible. \nBande annonce
URL:https://www.guillaucourt.fr/event/seance-cinema-ceux-qui-comptent/
END:VEVENT
END:VCALENDAR