BEGIN:VCALENDAR
VERSION:2.0
PRODID:-//Commune de Guillaucourt - ECPv6.15.20//NONSGML v1.0//EN
CALSCALE:GREGORIAN
METHOD:PUBLISH
X-ORIGINAL-URL:https://www.guillaucourt.fr
X-WR-CALDESC:Évènements pour Commune de Guillaucourt
REFRESH-INTERVAL;VALUE=DURATION:PT1H
X-Robots-Tag:noindex
X-PUBLISHED-TTL:PT1H
BEGIN:VTIMEZONE
TZID:Europe/Paris
BEGIN:DAYLIGHT
TZOFFSETFROM:+0100
TZOFFSETTO:+0200
TZNAME:CEST
DTSTART:20250330T010000
END:DAYLIGHT
BEGIN:STANDARD
TZOFFSETFROM:+0200
TZOFFSETTO:+0100
TZNAME:CET
DTSTART:20251026T010000
END:STANDARD
BEGIN:DAYLIGHT
TZOFFSETFROM:+0100
TZOFFSETTO:+0200
TZNAME:CEST
DTSTART:20260329T010000
END:DAYLIGHT
BEGIN:STANDARD
TZOFFSETFROM:+0200
TZOFFSETTO:+0100
TZNAME:CET
DTSTART:20261025T010000
END:STANDARD
BEGIN:DAYLIGHT
TZOFFSETFROM:+0100
TZOFFSETTO:+0200
TZNAME:CEST
DTSTART:20270328T010000
END:DAYLIGHT
BEGIN:STANDARD
TZOFFSETFROM:+0200
TZOFFSETTO:+0100
TZNAME:CET
DTSTART:20271031T010000
END:STANDARD
END:VTIMEZONE
BEGIN:VEVENT
DTSTART;TZID=Europe/Paris:20260310T203000
DTEND;TZID=Europe/Paris:20260310T223000
DTSTAMP:20260421T192258
CREATED:20260217T135858Z
LAST-MODIFIED:20260217T135951Z
UID:9642-1773174600-1773181800@www.guillaucourt.fr
SUMMARY:Cinéma "T'as pas changé"
DESCRIPTION:Un film de Jérôme Commandeur. \nSynopsis :\nSuite à un événement aussi loufoque que tragique\, quatre anciens lycéens cabossés se télescopent et font face à leur passé. La force du groupe suffira-t-elle à les remettre droits ?\nVéritable déclaration d’amour aux années 90\, T’AS PAS CHANGÉ dresse le portrait hilarant et grinçant de ces quinquas que des retrouvailles vont bouleverser à jamais… \nBande-annonce
URL:https://www.guillaucourt.fr/event/cinema-tas-pas-change/
END:VEVENT
END:VCALENDAR