BEGIN:VCALENDAR
VERSION:2.0
PRODID:-//Commune de Guillaucourt - ECPv6.15.20//NONSGML v1.0//EN
CALSCALE:GREGORIAN
METHOD:PUBLISH
X-ORIGINAL-URL:https://www.guillaucourt.fr
X-WR-CALDESC:Évènements pour Commune de Guillaucourt
REFRESH-INTERVAL;VALUE=DURATION:PT1H
X-Robots-Tag:noindex
X-PUBLISHED-TTL:PT1H
BEGIN:VTIMEZONE
TZID:Europe/Paris
BEGIN:DAYLIGHT
TZOFFSETFROM:+0100
TZOFFSETTO:+0200
TZNAME:CEST
DTSTART:20250330T010000
END:DAYLIGHT
BEGIN:STANDARD
TZOFFSETFROM:+0200
TZOFFSETTO:+0100
TZNAME:CET
DTSTART:20251026T010000
END:STANDARD
BEGIN:DAYLIGHT
TZOFFSETFROM:+0100
TZOFFSETTO:+0200
TZNAME:CEST
DTSTART:20260329T010000
END:DAYLIGHT
BEGIN:STANDARD
TZOFFSETFROM:+0200
TZOFFSETTO:+0100
TZNAME:CET
DTSTART:20261025T010000
END:STANDARD
BEGIN:DAYLIGHT
TZOFFSETFROM:+0100
TZOFFSETTO:+0200
TZNAME:CEST
DTSTART:20270328T010000
END:DAYLIGHT
BEGIN:STANDARD
TZOFFSETFROM:+0200
TZOFFSETTO:+0100
TZNAME:CET
DTSTART:20271031T010000
END:STANDARD
END:VTIMEZONE
BEGIN:VEVENT
DTSTART;TZID=Europe/Paris:20260115T080000
DTEND;TZID=Europe/Paris:20260214T190000
DTSTAMP:20260422T003938
CREATED:20260115T104240Z
LAST-MODIFIED:20260115T104240Z
UID:8969-1768464000-1771095600@www.guillaucourt.fr
SUMMARY:Recensement de la population
DESCRIPTION:Le recensement de la population a démarré. Il est obligatoire\, les données collectées sont confidentielles et uniquement exploitées par l’INSEE.
URL:https://www.guillaucourt.fr/event/recensement-de-la-population/
END:VEVENT
BEGIN:VEVENT
DTSTART;TZID=Europe/Paris:20260120T203000
DTEND;TZID=Europe/Paris:20260120T223000
DTSTAMP:20260422T003938
CREATED:20251230T140122Z
LAST-MODIFIED:20251230T140122Z
UID:7642-1768941000-1768948200@www.guillaucourt.fr
SUMMARY:Séance cinéma "Vie privée"
DESCRIPTION:Film à l’affiche « Vie privée » de Rebecca Zlotowski \n \nSynopsis : \nLilian Steiner est une psychiatre reconnue. Quand elle apprend la mort de l’une de ses patientes\, elle se persuade qu’il s’agit d’un meurtre. Troublée\, elle décide de mener son enquête. \n 
URL:https://www.guillaucourt.fr/event/seance-cinema-vie-privee/
END:VEVENT
END:VCALENDAR