BEGIN:VCALENDAR
VERSION:2.0
PRODID:-//Commune de Guillaucourt - ECPv6.15.20//NONSGML v1.0//EN
CALSCALE:GREGORIAN
METHOD:PUBLISH
X-WR-CALNAME:Commune de Guillaucourt
X-ORIGINAL-URL:https://www.guillaucourt.fr
X-WR-CALDESC:Évènements pour Commune de Guillaucourt
REFRESH-INTERVAL;VALUE=DURATION:PT1H
X-Robots-Tag:noindex
X-PUBLISHED-TTL:PT1H
BEGIN:VTIMEZONE
TZID:Europe/Paris
BEGIN:DAYLIGHT
TZOFFSETFROM:+0100
TZOFFSETTO:+0200
TZNAME:CEST
DTSTART:20240331T010000
END:DAYLIGHT
BEGIN:STANDARD
TZOFFSETFROM:+0200
TZOFFSETTO:+0100
TZNAME:CET
DTSTART:20241027T010000
END:STANDARD
BEGIN:DAYLIGHT
TZOFFSETFROM:+0100
TZOFFSETTO:+0200
TZNAME:CEST
DTSTART:20250330T010000
END:DAYLIGHT
BEGIN:STANDARD
TZOFFSETFROM:+0200
TZOFFSETTO:+0100
TZNAME:CET
DTSTART:20251026T010000
END:STANDARD
BEGIN:DAYLIGHT
TZOFFSETFROM:+0100
TZOFFSETTO:+0200
TZNAME:CEST
DTSTART:20260329T010000
END:DAYLIGHT
BEGIN:STANDARD
TZOFFSETFROM:+0200
TZOFFSETTO:+0100
TZNAME:CET
DTSTART:20261025T010000
END:STANDARD
END:VTIMEZONE
BEGIN:VEVENT
DTSTART;TZID=Europe/Paris:20251221T150000
DTEND;TZID=Europe/Paris:20251221T180000
DTSTAMP:20260422T024257
CREATED:20250206T135129Z
LAST-MODIFIED:20251120T142431Z
UID:2223-1766329200-1766340000@www.guillaucourt.fr
SUMMARY:Séance cinéma "Santa & Cie"
DESCRIPTION:Film : « Santa & Cie » d’Alain Chabat \n \nSynopsis : Rien ne va plus à l’approche du réveillon : les 92 000 lutins chargés de fabriquer les cadeaux des enfants tombent tous malades en même temps ! C’est un coup dur pour Santa (Claus)\, plus connu sous le nom de Père Noël… il n’a pas le choix : il doit se rendre d’urgence sur Terre avec ses rennes pour chercher un remède. À son arrivée\, il devra trouver des alliés pour l’aider à sauver la magie de Noël. \nBande-annonce
URL:https://www.guillaucourt.fr/event/seance-cinema-7/
END:VEVENT
END:VCALENDAR