BEGIN:VCALENDAR
VERSION:2.0
PRODID:-//Commune de Guillaucourt - ECPv6.15.20//NONSGML v1.0//EN
CALSCALE:GREGORIAN
METHOD:PUBLISH
X-WR-CALNAME:Commune de Guillaucourt
X-ORIGINAL-URL:https://www.guillaucourt.fr
X-WR-CALDESC:Évènements pour Commune de Guillaucourt
REFRESH-INTERVAL;VALUE=DURATION:PT1H
X-Robots-Tag:noindex
X-PUBLISHED-TTL:PT1H
BEGIN:VTIMEZONE
TZID:Europe/Paris
BEGIN:DAYLIGHT
TZOFFSETFROM:+0100
TZOFFSETTO:+0200
TZNAME:CEST
DTSTART:20240331T010000
END:DAYLIGHT
BEGIN:STANDARD
TZOFFSETFROM:+0200
TZOFFSETTO:+0100
TZNAME:CET
DTSTART:20241027T010000
END:STANDARD
BEGIN:DAYLIGHT
TZOFFSETFROM:+0100
TZOFFSETTO:+0200
TZNAME:CEST
DTSTART:20250330T010000
END:DAYLIGHT
BEGIN:STANDARD
TZOFFSETFROM:+0200
TZOFFSETTO:+0100
TZNAME:CET
DTSTART:20251026T010000
END:STANDARD
BEGIN:DAYLIGHT
TZOFFSETFROM:+0100
TZOFFSETTO:+0200
TZNAME:CEST
DTSTART:20260329T010000
END:DAYLIGHT
BEGIN:STANDARD
TZOFFSETFROM:+0200
TZOFFSETTO:+0100
TZNAME:CET
DTSTART:20261025T010000
END:STANDARD
END:VTIMEZONE
BEGIN:VEVENT
DTSTART;TZID=Europe/Paris:20251216T203000
DTEND;TZID=Europe/Paris:20251216T223000
DTSTAMP:20260422T005148
CREATED:20250206T135048Z
LAST-MODIFIED:20251120T140610Z
UID:2221-1765917000-1765924200@www.guillaucourt.fr
SUMMARY:Séance cinéma "Chien 51"
DESCRIPTION:Film : « Chien 51 » de Cédric Jimenez \n \nSynopsis : Dans un futur proche\, Paris a été divisé en 3 zones qui séparent les classes sociales et où l’intelligence artificielle ALMA a révolutionné le travail de la police. Jusqu’à ce que son inventeur soit assassiné et que Salia et Zem\, deux policiers que tout oppose\, soient forcés à collaborer pour mener l’enquête. \nBande-annonce
URL:https://www.guillaucourt.fr/event/seance-cinema-6/
END:VEVENT
END:VCALENDAR